BEGIN:VCALENDAR
VERSION:2.0
PRODID:icalendar-ruby
CALSCALE:GREGORIAN
BEGIN:VEVENT
DTSTAMP:20210122T164423Z
UID:793c256d-51af-43dd-9d5f-9cbcd5c2a51b
DTSTART;VALUE=DATE:20200522
DESCRIPTION:Property ID# 478716\, Locatoin: Deadline Sale - email to agent 
 at esmae.farrington@harcourtsboi.co.nz\, Time: 2:00PM
SUMMARY:Auction for 
END:VEVENT
END:VCALENDAR
