BEGIN:VCALENDAR
VERSION:2.0
PRODID:icalendar-ruby
CALSCALE:GREGORIAN
BEGIN:VEVENT
DTSTAMP:20210122T164414Z
UID:258f4b1f-7270-4c7d-a0d0-82abf6a7faff
DTSTART;VALUE=DATE:20201204
DESCRIPTION:Property ID# 494990\, Locatoin: Level 2\, 33-35 Robert Street\,
  Whangarei\, Time: 12:00PM
SUMMARY:Auction for 
END:VEVENT
END:VCALENDAR
