BEGIN:VCALENDAR
VERSION:2.0
PRODID:icalendar-ruby
CALSCALE:GREGORIAN
BEGIN:VEVENT
DTSTAMP:20210122T165240Z
UID:e13e9ca2-bd9f-4a3d-8897-28d172f68f99
DTSTART;TZID=Pacific/Auckland:20210123T130000
DTEND;TZID=Pacific/Auckland:20210123T140000
DESCRIPTION:Property ID# 498847
SUMMARY:Openhome for 52 Bream Bay Drive
END:VEVENT
END:VCALENDAR
