BEGIN:VCALENDAR
VERSION:2.0
PRODID:icalendar-ruby
CALSCALE:GREGORIAN
BEGIN:VEVENT
DTSTAMP:20260423T114553Z
UID:dbd1728a-a8d2-4bba-8c2a-08ee31b921d1
DTSTART;VALUE=DATE:20220520
DESCRIPTION:Property ID# 533670\, Locatoin: Harcourts 33-35 Robert Street W
 hangarei\, Time: 4:00PM
SUMMARY:Auction for 
END:VEVENT
END:VCALENDAR
